BEGIN:VCALENDAR
VERSION:2.0
PRODID:-//Plone.org//NONSGML plone.app.event//EN
X-WR-TIMEZONE:America/Maceio
BEGIN:VEVENT
SUMMARY:Seminário: Protocolos de análises de biomarcadores de estresse o
 xidativo
DTSTART;TZID=America/Maceio:20240917T140000
DTEND;TZID=America/Maceio:20240917T170000
DTSTAMP:20260420T044222Z
UID:1898e9f13a9a4ade97f0783c856c6a95@fanut.ufal.br
ATTENDEE;CN="Docentes e discentes de cursos de graduação e pós-graduaç
 ão da Ufal da área da saúde e afins";ROLE=REQ-PARTICIPANT:Docentes e di
 scentes de cursos de graduação e pós-graduação da Ufal da área da sa
 úde e afins
CONTACT:Sandra Mary Lima Vasconcelos\, sandra.vasconcelos@fanut.ufal.br
CREATED:20240909T144333Z
DESCRIPTION:Metedologia de tratamento e preparo de amostras biológicas e 
 passo a passo dos processos de análise de biomarcadores de estresse oxida
 tivo.
LAST-MODIFIED:20240910T171036Z
LOCATION:Faculdade de Nutrição\, sala 101 C (térreo)
URL:https://fanut.ufal.br/pt-br/institucional/eventos/seminario-protocolos
 -de-analises-de-biomarcadores-de-estresse-oxidativo
END:VEVENT
BEGIN:VTIMEZONE
TZID:America/Maceio
X-LIC-LOCATION:America/Maceio
BEGIN:STANDARD
DTSTART:20020216T230000
TZNAME:-03
TZOFFSETFROM:-0200
TZOFFSETTO:-0300
END:STANDARD
END:VTIMEZONE
END:VCALENDAR
